Package: concordexR Version: 1.4.0 Command: /Library/Frameworks/R.framework/Resources/bin/R CMD check --install=check:concordexR.install-out.txt --library=/Library/Frameworks/R.framework/Resources/library --no-vignettes --timings concordexR_1.4.0.tar.gz StartedAt: 2024-06-10 11:35:33 -0400 (Mon, 10 Jun 2024) EndedAt: 2024-06-10 11:39:22 -0400 (Mon, 10 Jun 2024) EllapsedTime: 229.4 seconds RetCode: 0 Status: OK CheckDir: concordexR.Rcheck Warnings: 0