Package: compcodeR Version: 1.40.0 Command: rm -rf compcodeR.buildbin-libdir && mkdir compcodeR.buildbin-libdir && F:\biocbuild\bbs-3.19-bioc\R\bin\R.exe CMD INSTALL --build --library=compcodeR.buildbin-libdir compcodeR_1.40.0.tar.gz StartedAt: 2024-06-27 08:01:59 -0400 (Thu, 27 Jun 2024) EndedAt: 2024-06-27 08:02:29 -0400 (Thu, 27 Jun 2024) EllapsedTime: 30.1 seconds RetCode: 0 Status: OK PackageFile: compcodeR_1.40.0.zip PackageFileSize: 2.653 MiB