Package: compcodeR Version: 1.40.0 Command: /home/biocbuild/bbs-3.19-bioc/R/bin/R CMD INSTALL compcodeR StartedAt: 2024-10-16 16:18:43 -0400 (Wed, 16 Oct 2024) EndedAt: 2024-10-16 16:18:54 -0400 (Wed, 16 Oct 2024) EllapsedTime: 11.5 seconds RetCode: 0 Status: OK