Package: compcodeR Version: 1.40.0 Command: /home/biocbuild/bbs-3.19-bioc/R/bin/R CMD check --install=check:compcodeR.install-out.txt --library=/home/biocbuild/bbs-3.19-bioc/R/site-library --timings compcodeR_1.40.0.tar.gz StartedAt: 2024-10-16 23:01:57 -0400 (Wed, 16 Oct 2024) EndedAt: 2024-10-16 23:07:06 -0400 (Wed, 16 Oct 2024) EllapsedTime: 308.7 seconds RetCode: 0 Status: OK CheckDir: compcodeR.Rcheck Warnings: 0