Package: compcodeR Version: 1.40.0 Command: rm -rf compcodeR.buildbin-libdir && mkdir compcodeR.buildbin-libdir && /Users/biocbuild/BBS/utils/build-universal.sh compcodeR_1.40.0.tar.gz /Library/Frameworks/R.framework/Resources/bin/R compcodeR.buildbin-libdir StartedAt: 2024-10-17 15:54:10 -0400 (Thu, 17 Oct 2024) EndedAt: 2024-10-17 15:54:48 -0400 (Thu, 17 Oct 2024) EllapsedTime: 37.3 seconds RetCode: 0 Status: OK PackageFile: compcodeR_1.40.0.tgz PackageFileSize: 2.691 MiB