Package: compcodeR Version: 1.40.0 Command: rm -rf compcodeR.buildbin-libdir && mkdir compcodeR.buildbin-libdir && /Users/biocbuild/BBS/utils/build-universal.sh compcodeR_1.40.0.tar.gz /Library/Frameworks/R.framework/Resources/bin/R compcodeR.buildbin-libdir StartedAt: 2024-06-10 00:12:36 -0400 (Mon, 10 Jun 2024) EndedAt: 2024-06-10 00:12:55 -0400 (Mon, 10 Jun 2024) EllapsedTime: 19.5 seconds RetCode: 0 Status: OK PackageFile: compcodeR_1.40.0.tgz PackageFileSize: 2.692 MiB