Package: compartmap Version: 1.22.0 Command: rm -rf compartmap.buildbin-libdir && mkdir compartmap.buildbin-libdir && E:\biocbuild\bbs-3.19-bioc\R\bin\R.exe CMD INSTALL --build --library=compartmap.buildbin-libdir compartmap_1.22.0.tar.gz StartedAt: 2024-10-17 07:34:47 -0400 (Thu, 17 Oct 2024) EndedAt: 2024-10-17 07:35:48 -0400 (Thu, 17 Oct 2024) EllapsedTime: 61.4 seconds RetCode: 0 Status: OK PackageFile: compartmap_1.22.0.zip PackageFileSize: 3.77 MiB