Package: compartmap Version: 1.22.0 Command: /Library/Frameworks/R.framework/Resources/bin/R CMD check --install=check:compartmap.install-out.txt --library=/Library/Frameworks/R.framework/Resources/library --no-vignettes --timings compartmap_1.22.0.tar.gz StartedAt: 2024-06-10 11:27:15 -0400 (Mon, 10 Jun 2024) EndedAt: 2024-06-10 11:37:41 -0400 (Mon, 10 Jun 2024) EllapsedTime: 626.1 seconds RetCode: 0 Status: OK CheckDir: compartmap.Rcheck Warnings: 0