Package: compartmap Version: 1.22.0 Maintainer: Benjamin Johnson MaintainerEmail: ben.johnson at vai.org git_url: https://git.bioconductor.org/packages/compartmap git_branch: RELEASE_3_19 git_last_commit: 8d4beb1 git_last_commit_date: 2024-04-30 11:11:00 -0400 (Tue, 30 Apr 2024)