Package: compSPOT Version: 1.2.0 Command: E:\biocbuild\bbs-3.19-bioc\R\bin\R.exe CMD INSTALL compSPOT StartedAt: 2024-10-16 17:18:31 -0400 (Wed, 16 Oct 2024) EndedAt: 2024-10-16 17:18:40 -0400 (Wed, 16 Oct 2024) EllapsedTime: 8.4 seconds RetCode: 0 Status: OK