Package: compSPOT Version: 1.2.0 Command: chmod a+r compSPOT -R && E:\biocbuild\bbs-3.19-bioc\R\bin\R.exe CMD build --keep-empty-dirs --no-resave-data compSPOT StartedAt: 2024-10-16 18:21:36 -0400 (Wed, 16 Oct 2024) EndedAt: 2024-10-16 18:22:08 -0400 (Wed, 16 Oct 2024) EllapsedTime: 32.2 seconds RetCode: 0 Status: OK PackageFile: compSPOT_1.2.0.tar.gz PackageFileSize: 436.6 KiB