Package: compSPOT Version: 1.2.0 Command: rm -rf compSPOT.buildbin-libdir && mkdir compSPOT.buildbin-libdir && E:\biocbuild\bbs-3.19-bioc\R\bin\R.exe CMD INSTALL --build --library=compSPOT.buildbin-libdir compSPOT_1.2.0.tar.gz StartedAt: 2024-10-17 07:35:10 -0400 (Thu, 17 Oct 2024) EndedAt: 2024-10-17 07:35:20 -0400 (Thu, 17 Oct 2024) EllapsedTime: 9.9 seconds RetCode: 0 Status: OK PackageFile: compSPOT_1.2.0.zip PackageFileSize: 469.4 KiB