Package: compSPOT Version: 1.2.0 Command: rm -rf compSPOT.buildbin-libdir && mkdir compSPOT.buildbin-libdir && F:\biocbuild\bbs-3.19-bioc\R\bin\R.exe CMD INSTALL --build --library=compSPOT.buildbin-libdir compSPOT_1.2.0.tar.gz StartedAt: 2024-06-27 08:02:09 -0400 (Thu, 27 Jun 2024) EndedAt: 2024-06-27 08:02:19 -0400 (Thu, 27 Jun 2024) EllapsedTime: 9.4 seconds RetCode: 0 Status: OK PackageFile: compSPOT_1.2.0.zip PackageFileSize: 469.4 KiB