Package: compSPOT Version: 1.2.0 Command: /Library/Frameworks/R.framework/Resources/bin/R CMD INSTALL compSPOT StartedAt: 2024-10-16 18:49:30 -0400 (Wed, 16 Oct 2024) EndedAt: 2024-10-16 18:49:35 -0400 (Wed, 16 Oct 2024) EllapsedTime: 5.8 seconds RetCode: 0 Status: OK