Package: compSPOT Version: 1.2.0 Command: /Library/Frameworks/R.framework/Resources/bin/R CMD build --keep-empty-dirs --no-resave-data compSPOT StartedAt: 2024-10-16 22:05:05 -0400 (Wed, 16 Oct 2024) EndedAt: 2024-10-16 22:05:31 -0400 (Wed, 16 Oct 2024) EllapsedTime: 26.0 seconds RetCode: 0 Status: OK PackageFile: compSPOT_1.2.0.tar.gz PackageFileSize: 436.5 KiB