Package: compEpiTools Version: 1.38.0 Command: E:\biocbuild\bbs-3.19-bioc\R\bin\R.exe CMD INSTALL compEpiTools StartedAt: 2024-10-16 16:49:46 -0400 (Wed, 16 Oct 2024) EndedAt: 2024-10-16 16:51:05 -0400 (Wed, 16 Oct 2024) EllapsedTime: 78.3 seconds RetCode: 0 Status: OK