Package: compEpiTools Version: 1.38.0 Command: chmod a+r compEpiTools -R && E:\biocbuild\bbs-3.19-bioc\R\bin\R.exe CMD build --keep-empty-dirs --no-resave-data compEpiTools StartedAt: 2024-10-16 18:20:47 -0400 (Wed, 16 Oct 2024) EndedAt: 2024-10-16 18:22:56 -0400 (Wed, 16 Oct 2024) EllapsedTime: 128.3 seconds RetCode: 0 Status: OK PackageFile: compEpiTools_1.38.0.tar.gz PackageFileSize: 2.165 MiB