Package: compEpiTools Version: 1.38.0 Command: rm -rf compEpiTools.buildbin-libdir && mkdir compEpiTools.buildbin-libdir && F:\biocbuild\bbs-3.19-bioc\R\bin\R.exe CMD INSTALL --build --library=compEpiTools.buildbin-libdir compEpiTools_1.38.0.tar.gz StartedAt: 2024-06-27 08:02:01 -0400 (Thu, 27 Jun 2024) EndedAt: 2024-06-27 08:03:28 -0400 (Thu, 27 Jun 2024) EllapsedTime: 87.2 seconds RetCode: 0 Status: OK PackageFile: compEpiTools_1.38.0.zip PackageFileSize: 2.349 MiB