Package: compEpiTools Version: 1.38.0 Command: /Library/Frameworks/R.framework/Resources/bin/R CMD build --keep-empty-dirs --no-resave-data compEpiTools StartedAt: 2024-10-16 18:10:16 -0400 (Wed, 16 Oct 2024) EndedAt: 2024-10-16 18:13:51 -0400 (Wed, 16 Oct 2024) EllapsedTime: 214.6 seconds RetCode: 0 Status: OK PackageFile: compEpiTools_1.38.0.tar.gz PackageFileSize: 2.165 MiB