Package: compEpiTools Version: 1.38.0 Command: /Library/Frameworks/R.framework/Resources/bin/R CMD check --install=check:compEpiTools.install-out.txt --library=/Library/Frameworks/R.framework/Resources/library --no-vignettes --timings compEpiTools_1.38.0.tar.gz StartedAt: 2024-06-09 19:34:15 -0400 (Sun, 09 Jun 2024) EndedAt: 2024-06-09 19:42:09 -0400 (Sun, 09 Jun 2024) EllapsedTime: 474.5 seconds RetCode: 0 Status: OK CheckDir: compEpiTools.Rcheck Warnings: 0