Package: compEpiTools Version: 1.38.0 Command: /Library/Frameworks/R.framework/Resources/bin/R CMD build --keep-empty-dirs --no-resave-data compEpiTools StartedAt: 2024-10-16 22:04:02 -0400 (Wed, 16 Oct 2024) EndedAt: 2024-10-16 22:05:54 -0400 (Wed, 16 Oct 2024) EllapsedTime: 111.7 seconds RetCode: 0 Status: OK PackageFile: compEpiTools_1.38.0.tar.gz PackageFileSize: 2.166 MiB