Package: combi Version: 1.16.0 Command: E:\biocbuild\bbs-3.19-bioc\R\bin\R.exe CMD INSTALL combi StartedAt: 2024-10-16 17:05:42 -0400 (Wed, 16 Oct 2024) EndedAt: 2024-10-16 17:06:43 -0400 (Wed, 16 Oct 2024) EllapsedTime: 61.0 seconds RetCode: 0 Status: OK