Package: combi Version: 1.16.0 Command: /Library/Frameworks/R.framework/Resources/bin/R CMD check --install=check:combi.install-out.txt --library=/Library/Frameworks/R.framework/Resources/library --no-vignettes --timings combi_1.16.0.tar.gz StartedAt: 2024-10-17 03:07:41 -0400 (Thu, 17 Oct 2024) EndedAt: 2024-10-17 03:24:16 -0400 (Thu, 17 Oct 2024) EllapsedTime: 994.7 seconds RetCode: 0 Status: OK CheckDir: combi.Rcheck Warnings: 0