Package: combi Version: 1.16.0 Command: /Library/Frameworks/R.framework/Resources/bin/R CMD check --install=check:combi.install-out.txt --library=/Library/Frameworks/R.framework/Resources/library --no-vignettes --timings combi_1.16.0.tar.gz StartedAt: 2024-06-09 19:33:49 -0400 (Sun, 09 Jun 2024) EndedAt: 2024-06-09 19:41:43 -0400 (Sun, 09 Jun 2024) EllapsedTime: 474.8 seconds RetCode: 0 Status: OK CheckDir: combi.Rcheck Warnings: 0