Package: combi Version: 1.16.0 Command: /Library/Frameworks/R.framework/Resources/bin/R CMD check --install=check:combi.install-out.txt --library=/Library/Frameworks/R.framework/Resources/library --no-vignettes --timings combi_1.16.0.tar.gz StartedAt: 2024-06-10 11:26:21 -0400 (Mon, 10 Jun 2024) EndedAt: 2024-06-10 11:39:55 -0400 (Mon, 10 Jun 2024) EllapsedTime: 814.0 seconds RetCode: 0 Status: OK CheckDir: combi.Rcheck Warnings: 0