Package: combi Version: 1.16.0 Command: /Library/Frameworks/R.framework/Resources/bin/R CMD build --keep-empty-dirs --no-resave-data combi StartedAt: 2024-06-09 19:47:15 -0400 (Sun, 09 Jun 2024) EndedAt: 2024-06-09 19:51:41 -0400 (Sun, 09 Jun 2024) EllapsedTime: 265.9 seconds RetCode: 0 Status: OK PackageFile: combi_1.16.0.tar.gz PackageFileSize: 1.503 MiB