Package: combi Version: 1.16.0 Command: /Library/Frameworks/R.framework/Resources/bin/R CMD INSTALL combi StartedAt: 2024-10-16 18:08:30 -0400 (Wed, 16 Oct 2024) EndedAt: 2024-10-16 18:09:07 -0400 (Wed, 16 Oct 2024) EllapsedTime: 37.0 seconds RetCode: 0 Status: OK