Package: combi Version: 1.16.0 Command: rm -rf combi.buildbin-libdir && mkdir combi.buildbin-libdir && /Users/biocbuild/BBS/utils/build-universal.sh combi_1.16.0.tar.gz /Library/Frameworks/R.framework/Resources/bin/R combi.buildbin-libdir StartedAt: 2024-10-18 17:53:08 -0400 (Fri, 18 Oct 2024) EndedAt: 2024-10-18 17:53:55 -0400 (Fri, 18 Oct 2024) EllapsedTime: 46.7 seconds RetCode: 0 Status: OK PackageFile: combi_1.16.0.tgz PackageFileSize: 1.709 MiB