Package: comapr Version: 1.8.0 Command: /Library/Frameworks/R.framework/Resources/bin/R CMD check --install=check:comapr.install-out.txt --library=/Library/Frameworks/R.framework/Resources/library --no-vignettes --timings comapr_1.8.0.tar.gz StartedAt: 2024-10-17 03:07:19 -0400 (Thu, 17 Oct 2024) EndedAt: 2024-10-17 03:22:58 -0400 (Thu, 17 Oct 2024) EllapsedTime: 939.8 seconds RetCode: 0 Status: OK CheckDir: comapr.Rcheck Warnings: 0