Package: comapr Version: 1.8.0 Command: /Library/Frameworks/R.framework/Resources/bin/R CMD build --keep-empty-dirs --no-resave-data comapr StartedAt: 2024-10-16 18:07:57 -0400 (Wed, 16 Oct 2024) EndedAt: 2024-10-16 18:11:09 -0400 (Wed, 16 Oct 2024) EllapsedTime: 192.8 seconds RetCode: 0 Status: OK PackageFile: comapr_1.8.0.tar.gz PackageFileSize: 969.7 KiB