Package: comapr Version: 1.8.0 Command: /Library/Frameworks/R.framework/Resources/bin/R CMD INSTALL comapr StartedAt: 2024-10-16 17:26:57 -0400 (Wed, 16 Oct 2024) EndedAt: 2024-10-16 17:27:58 -0400 (Wed, 16 Oct 2024) EllapsedTime: 60.9 seconds RetCode: 0 Status: OK