Package: comapr Version: 1.8.0 Command: /Library/Frameworks/R.framework/Resources/bin/R CMD build --keep-empty-dirs --no-resave-data comapr StartedAt: 2024-10-16 22:00:04 -0400 (Wed, 16 Oct 2024) EndedAt: 2024-10-16 22:01:48 -0400 (Wed, 16 Oct 2024) EllapsedTime: 104.0 seconds RetCode: 0 Status: OK PackageFile: comapr_1.8.0.tar.gz PackageFileSize: 970.1 KiB