Package: comapr Version: 1.8.0 Command: rm -rf comapr.buildbin-libdir && mkdir comapr.buildbin-libdir && /Users/biocbuild/BBS/utils/build-universal.sh comapr_1.8.0.tar.gz /Library/Frameworks/R.framework/Resources/bin/R comapr.buildbin-libdir StartedAt: 2024-10-18 17:53:07 -0400 (Fri, 18 Oct 2024) EndedAt: 2024-10-18 17:54:21 -0400 (Fri, 18 Oct 2024) EllapsedTime: 73.5 seconds RetCode: 0 Status: OK PackageFile: comapr_1.8.0.tgz PackageFileSize: 1.074 MiB