Package: comapr Version: 1.8.0 Maintainer: Ruqian Lyu MaintainerEmail: xiaoru.best at gmail.com git_url: https://git.bioconductor.org/packages/comapr git_branch: RELEASE_3_19 git_last_commit: 553ee62 git_last_commit_date: 2024-04-30 11:39:48 -0400 (Tue, 30 Apr 2024)