Package: cola Version: 2.10.0 Command: F:\biocbuild\bbs-3.19-bioc\R\bin\R.exe CMD check --no-multiarch --install=check:cola.install-out.txt --library=F:\biocbuild\bbs-3.19-bioc\R\library --no-vignettes --timings cola_2.10.0.tar.gz StartedAt: 2024-06-27 00:18:54 -0400 (Thu, 27 Jun 2024) EndedAt: 2024-06-27 00:23:56 -0400 (Thu, 27 Jun 2024) EllapsedTime: 302.2 seconds RetCode: 0 Status: OK CheckDir: cola.Rcheck Warnings: 0