Package: cola Version: 2.10.0 Command: /Library/Frameworks/R.framework/Resources/bin/R CMD check --install=check:cola.install-out.txt --library=/Library/Frameworks/R.framework/Resources/library --no-vignettes --timings cola_2.10.0.tar.gz StartedAt: 2024-10-17 03:06:57 -0400 (Thu, 17 Oct 2024) EndedAt: 2024-10-17 03:15:11 -0400 (Thu, 17 Oct 2024) EllapsedTime: 494.3 seconds RetCode: 0 Status: OK CheckDir: cola.Rcheck Warnings: 0