Package: cola Version: 2.10.0 Command: /Library/Frameworks/R.framework/Resources/bin/R CMD INSTALL cola StartedAt: 2024-06-09 16:12:33 -0400 (Sun, 09 Jun 2024) EndedAt: 2024-06-09 16:13:26 -0400 (Sun, 09 Jun 2024) EllapsedTime: 53.2 seconds RetCode: 0 Status: OK