Package: cogeqc Version: 1.8.0 Command: chmod a+r cogeqc -R && E:\biocbuild\bbs-3.19-bioc\R\bin\R.exe CMD build --keep-empty-dirs --no-resave-data cogeqc StartedAt: 2024-10-16 18:19:04 -0400 (Wed, 16 Oct 2024) EndedAt: 2024-10-16 18:20:48 -0400 (Wed, 16 Oct 2024) EllapsedTime: 104.0 seconds RetCode: 0 Status: OK PackageFile: cogeqc_1.8.0.tar.gz PackageFileSize: 2.36 MiB