Package: cogeqc Version: 1.8.0 Command: /home/biocbuild/bbs-3.19-bioc/R/bin/R CMD INSTALL cogeqc StartedAt: 2024-10-16 16:13:34 -0400 (Wed, 16 Oct 2024) EndedAt: 2024-10-16 16:13:48 -0400 (Wed, 16 Oct 2024) EllapsedTime: 13.9 seconds RetCode: 0 Status: OK