Package: cogeqc Version: 1.8.0 Command: /Library/Frameworks/R.framework/Resources/bin/R CMD build --keep-empty-dirs --no-resave-data cogeqc StartedAt: 2024-10-16 21:59:29 -0400 (Wed, 16 Oct 2024) EndedAt: 2024-10-16 22:01:02 -0400 (Wed, 16 Oct 2024) EllapsedTime: 93.5 seconds RetCode: 0 Status: OK PackageFile: cogeqc_1.8.0.tar.gz PackageFileSize: 3.332 MiB