Package: cogena Version: 1.38.0 Command: rm -rf cogena.buildbin-libdir && mkdir cogena.buildbin-libdir && E:\biocbuild\bbs-3.19-bioc\R\bin\R.exe CMD INSTALL --build --library=cogena.buildbin-libdir cogena_1.38.0.tar.gz StartedAt: 2024-10-17 07:34:31 -0400 (Thu, 17 Oct 2024) EndedAt: 2024-10-17 07:35:10 -0400 (Thu, 17 Oct 2024) EllapsedTime: 39.0 seconds RetCode: 0 Status: OK PackageFile: cogena_1.38.0.zip PackageFileSize: 6.666 MiB