Package: cogena Version: 1.38.0 Command: rm -rf cogena.buildbin-libdir && mkdir cogena.buildbin-libdir && F:\biocbuild\bbs-3.19-bioc\R\bin\R.exe CMD INSTALL --build --library=cogena.buildbin-libdir cogena_1.38.0.tar.gz StartedAt: 2024-06-27 08:01:39 -0400 (Thu, 27 Jun 2024) EndedAt: 2024-06-27 08:02:07 -0400 (Thu, 27 Jun 2024) EllapsedTime: 28.6 seconds RetCode: 0 Status: OK PackageFile: cogena_1.38.0.zip PackageFileSize: 6.664 MiB