Package: cogena Version: 1.38.0 Command: /home/biocbuild/bbs-3.19-bioc/R/bin/R CMD build --keep-empty-dirs --no-resave-data cogena StartedAt: 2024-10-16 17:53:58 -0400 (Wed, 16 Oct 2024) EndedAt: 2024-10-16 17:56:29 -0400 (Wed, 16 Oct 2024) EllapsedTime: 151.3 seconds RetCode: 0 Status: OK PackageFile: cogena_1.38.0.tar.gz PackageFileSize: 7.094 MiB