Package: cogena Version: 1.38.0 Command: /home/biocbuild/R/R-beta-2024-04-15_r86425/bin/R CMD build --keep-empty-dirs --no-resave-data cogena StartedAt: 2024-05-08 23:27:16 -0000 (Wed, 08 May 2024) EndedAt: 2024-05-08 23:32:15 -0000 (Wed, 08 May 2024) EllapsedTime: 298.4 seconds RetCode: 0 Status: OK PackageFile: cogena_1.38.0.tar.gz PackageFileSize: 6.415 MiB