Package: cogena Version: 1.38.0 Command: /Library/Frameworks/R.framework/Resources/bin/R CMD check --install=check:cogena.install-out.txt --library=/Library/Frameworks/R.framework/Resources/library --no-vignettes --timings cogena_1.38.0.tar.gz StartedAt: 2024-06-10 11:20:19 -0400 (Mon, 10 Jun 2024) EndedAt: 2024-06-10 11:26:53 -0400 (Mon, 10 Jun 2024) EllapsedTime: 394.8 seconds RetCode: 0 Status: WARNINGS CheckDir: cogena.Rcheck Warnings: 1