Package: cogena Version: 1.38.0 Command: rm -rf cogena.buildbin-libdir && mkdir cogena.buildbin-libdir && /Users/biocbuild/BBS/utils/build-universal.sh cogena_1.38.0.tar.gz /Library/Frameworks/R.framework/Resources/bin/R cogena.buildbin-libdir StartedAt: 2024-06-11 10:39:59 -0400 (Tue, 11 Jun 2024) EndedAt: 2024-06-11 10:40:31 -0400 (Tue, 11 Jun 2024) EllapsedTime: 31.3 seconds RetCode: 0 Status: OK PackageFile: cogena_1.38.0.tgz PackageFileSize: 7.705 MiB