Package: cogena Version: 1.38.0 Command: /Library/Frameworks/R.framework/Resources/bin/R CMD INSTALL cogena StartedAt: 2024-10-16 17:42:39 -0400 (Wed, 16 Oct 2024) EndedAt: 2024-10-16 17:42:56 -0400 (Wed, 16 Oct 2024) EllapsedTime: 17.0 seconds RetCode: 0 Status: OK