Package: cogena Version: 1.38.0 Command: /Library/Frameworks/R.framework/Resources/bin/R CMD check --install=check:cogena.install-out.txt --library=/Library/Frameworks/R.framework/Resources/library --no-vignettes --timings cogena_1.38.0.tar.gz StartedAt: 2024-10-17 16:55:51 -0400 (Thu, 17 Oct 2024) EndedAt: 2024-10-17 17:00:27 -0400 (Thu, 17 Oct 2024) EllapsedTime: 276.2 seconds RetCode: 0 Status: WARNINGS CheckDir: cogena.Rcheck Warnings: 1