Package: cogena Version: 1.38.0 Command: /Library/Frameworks/R.framework/Resources/bin/R CMD build --keep-empty-dirs --no-resave-data cogena StartedAt: 2024-10-16 21:58:47 -0400 (Wed, 16 Oct 2024) EndedAt: 2024-10-16 22:02:38 -0400 (Wed, 16 Oct 2024) EllapsedTime: 231.6 seconds RetCode: 0 Status: OK PackageFile: cogena_1.38.0.tar.gz PackageFileSize: 7.509 MiB