Package: codelink Version: 1.72.0 Command: chmod a+r codelink -R && F:\biocbuild\bbs-3.19-bioc\R\bin\R.exe CMD build --keep-empty-dirs --no-resave-data codelink StartedAt: 2024-06-26 17:55:34 -0400 (Wed, 26 Jun 2024) EndedAt: 2024-06-26 17:56:18 -0400 (Wed, 26 Jun 2024) EllapsedTime: 44.4 seconds RetCode: 0 Status: OK PackageFile: codelink_1.72.0.tar.gz PackageFileSize: 3.181 MiB